BEGIN:VCALENDAR
VERSION:2.0
PRODID:-//Christian Alliance Church of Victoria 維省宣道會宣信堂 - ECPv4.8.1//NONSGML v1.0//EN
CALSCALE:GREGORIAN
METHOD:PUBLISH
X-WR-CALNAME:Christian Alliance Church of Victoria 維省宣道會宣信堂
X-ORIGINAL-URL:http://cacv.org.au
X-WR-CALDESC:Events for Christian Alliance Church of Victoria 維省宣道會宣信堂
BEGIN:VEVENT
DTSTART;TZID=Australia/Melbourne:20181007T103000
DTEND;TZID=Australia/Melbourne:20181007T123000
DTSTAMP:20190301T103409
CREATED:20180918T021347Z
LAST-MODIFIED:20180918T021355Z
UID:804-1538908200-1538915400@cacv.org.au
SUMMARY:46th Baptism Ceremony 浸禮
DESCRIPTION:\n\n\n\n\n\n\n\n\n\n\n\n\n
URL:http://cacv.org.au/event/46th-baptism-ceremony-%e6%b5%b8%e7%a6%ae/
LOCATION:Chapel\, 17 Livingstone Close\, BURWOOD\, VIC\, 3125\, Australia
END:VEVENT
END:VCALENDAR