BEGIN:VCALENDAR
VERSION:2.0
PRODID:-//Christian Alliance Church of Victoria 維省宣道會宣信堂 - ECPv4.8.1//NONSGML v1.0//EN
CALSCALE:GREGORIAN
METHOD:PUBLISH
X-WR-CALNAME:Christian Alliance Church of Victoria 維省宣道會宣信堂
X-ORIGINAL-URL:http://cacv.org.au
X-WR-CALDESC:Events for Christian Alliance Church of Victoria 維省宣道會宣信堂
BEGIN:VEVENT
DTSTART;TZID=Australia/Melbourne:20190427T213000
DTEND;TZID=Australia/Melbourne:20190427T233000
DTSTAMP:20190301T102608
CREATED:20181116T033739Z
LAST-MODIFIED:20181116T033739Z
UID:928-1556400600-1556407800@cacv.org.au
SUMMARY:Adult Sunday School 成人主日學
DESCRIPTION:創世記 (四海讀經會查經課程) 三十二堂 \n本課程共三十二堂，除學校假期外，隔週進行。明年上課十六次。 \n日期：	3月2、16、30日   	三堂\n   	4月27日至6月22日 	五堂\n   	7月20日至9月14日         五堂\n   	10月12日至11月9日 	三堂         \n老師：梁燕婷姊妹\n時間：週六9:30am – 11:30am\n課程大綱：\n•	明年十六堂，每次兩小時，內容包括：短詩、分組討論及講課。\n•	研讀創世記由第一章開始，至2020年繼續另外十六堂，查完創世記五十章。\n•	課堂包括詩歌、分組討論、及講解。課後派發講義、家庭教育篇、討論問題習作。\n•	小組長負責帶領討論問題，並每週聯絡組員，收集祈禱事項，讓組員互相代禱記念。 \n對象:\n初信肢體及渴望建立個人讀經習慣的弟兄姊妹。 \n由於要預印講義、家庭教育篇及討論問題習作，報名將於即日開始至下月底截止。 \n組員須於明年二月底領取習作，預備經文，三月二日帶備聖經上課。 \n
URL:http://cacv.org.au/event/adult-sunday-school-%e6%88%90%e4%ba%ba%e4%b8%bb%e6%97%a5%e5%ad%b8-17/
LOCATION:Function Room\, 17 Livingstone Close\, Burwood\, VIC\, 3125\, Australia
END:VEVENT
END:VCALENDAR