BEGIN:VCALENDAR
VERSION:2.0
PRODID:-//Christian Alliance Church of Victoria 維省宣道會宣信堂 - ECPv4.8.1//NONSGML v1.0//EN
CALSCALE:GREGORIAN
METHOD:PUBLISH
X-WR-CALNAME:Christian Alliance Church of Victoria 維省宣道會宣信堂
X-ORIGINAL-URL:http://cacv.org.au
X-WR-CALDESC:Events for Christian Alliance Church of Victoria 維省宣道會宣信堂
BEGIN:VEVENT
DTSTART;TZID=Australia/Melbourne:20180909T000000
DTEND;TZID=Australia/Melbourne:20180909T000000
DTSTAMP:20190301T103837
CREATED:20180609T115056Z
LAST-MODIFIED:20180609T115056Z
UID:534-1536451200-1536451200@cacv.org.au
SUMMARY:Church 31thAnniversaryLunch31週年堂慶聚餐
DESCRIPTION:
URL:http://cacv.org.au/event/church-31thanniversarylunch31%e9%80%b1%e5%b9%b4%e5%a0%82%e6%85%b6%e8%81%9a%e9%a4%90/
END:VEVENT
END:VCALENDAR