BEGIN:VCALENDAR
VERSION:2.0
PRODID:-//Christian Alliance Church of Victoria 維省宣道會宣信堂 - ECPv4.8.1//NONSGML v1.0//EN
CALSCALE:GREGORIAN
METHOD:PUBLISH
X-WR-CALNAME:Christian Alliance Church of Victoria 維省宣道會宣信堂
X-ORIGINAL-URL:http://cacv.org.au
X-WR-CALDESC:Events for Christian Alliance Church of Victoria 維省宣道會宣信堂
BEGIN:VEVENT
DTSTART;TZID=Australia/Melbourne:20181101T100000
DTEND;TZID=Australia/Melbourne:20181101T120000
DTSTAMP:20190301T103059
CREATED:20180918T022055Z
LAST-MODIFIED:20180918T022056Z
UID:825-1541066400-1541073600@cacv.org.au
SUMMARY:Women’s Group 婦女會
DESCRIPTION:\n\n\n\n\n\n\n
URL:http://cacv.org.au/event/womens-group-%e5%a9%a6%e5%a5%b3%e6%9c%83-6/
LOCATION:Function Room\, 17 Livingstone Close\, Burwood\, VIC\, 3125\, Australia
END:VEVENT
END:VCALENDAR